BEGIN:VCALENDAR
VERSION:2.0
PRODID:-//Temple Baptist Church - Great Falls, MT - ECPv6.15.15//NONSGML v1.0//EN
CALSCALE:GREGORIAN
METHOD:PUBLISH
X-WR-CALNAME:Temple Baptist Church - Great Falls, MT
X-ORIGINAL-URL:https://templebaptistgf.org
X-WR-CALDESC:Events for Temple Baptist Church - Great Falls, MT
REFRESH-INTERVAL;VALUE=DURATION:PT1H
X-Robots-Tag:noindex
X-PUBLISHED-TTL:PT1H
BEGIN:VTIMEZONE
TZID:UTC
BEGIN:STANDARD
TZOFFSETFROM:+0000
TZOFFSETTO:+0000
TZNAME:UTC
DTSTART:20160101T000000
END:STANDARD
END:VTIMEZONE
BEGIN:VEVENT
DTSTART;TZID=UTC:20180224T100000
DTEND;TZID=UTC:20180224T150000
DTSTAMP:20260422T215632
CREATED:20180201T164928Z
LAST-MODIFIED:20180306T230421Z
UID:1147-1519466400-1519484400@templebaptistgf.org
SUMMARY:Awana Grand Prix
DESCRIPTION:Start your engines and test your racing skill! All ages are invited to build and race a car in the Grand Prix. Prizes will be awarded for speed and for design in each age bracket. Not a racer? Join us to cheer those who are competing\, and to enjoy the food and time of fellowship. \nShare this:\n				Share on X (Opens in new window)\n				X\n			\n				Share on Facebook (Opens in new window)\n				Facebook\n			\n				Share on LinkedIn (Opens in new window)\n				LinkedIn\n			\n				Share on Pinterest (Opens in new window)\n				Pinterest\n			\n				Email a link to a friend (Opens in new window)\n				Email\n			\n				Print (Opens in new window)\n				Print
URL:https://templebaptistgf.org/event/awana-grand-prix/
CATEGORIES:CHURCH
ATTACH;FMTTYPE=image/jpeg:https://templebaptistgf.org/wp-content/uploads/2018/02/AWANA-GRAND-PRIX.jpg
END:VEVENT
BEGIN:VEVENT
DTSTART;TZID=UTC:20180224T080000
DTEND;TZID=UTC:20180224T093000
DTSTAMP:20260422T215632
CREATED:20180224T080004Z
LAST-MODIFIED:20180201T160928Z
UID:681-1519459200-1519464600@templebaptistgf.org
SUMMARY:Men's Prayer Breakfast
DESCRIPTION:Join us for our men’s prayer breakfast. Breakfast will be served and a time of fellowship with a short message of encouragement will follow. \nShare this:\n				Share on X (Opens in new window)\n				X\n			\n				Share on Facebook (Opens in new window)\n				Facebook\n			\n				Share on LinkedIn (Opens in new window)\n				LinkedIn\n			\n				Share on Pinterest (Opens in new window)\n				Pinterest\n			\n				Email a link to a friend (Opens in new window)\n				Email\n			\n				Print (Opens in new window)\n				Print
URL:https://templebaptistgf.org/event/mens-prayer-breakfast-2/
CATEGORIES:CHURCH
ATTACH;FMTTYPE=image/jpeg:https://templebaptistgf.org/wp-content/uploads/2017/04/Mens-Prayer-Breakfast.jpg
END:VEVENT
BEGIN:VEVENT
DTSTART;TZID=UTC:20180224T080000
DTEND;TZID=UTC:20180224T093000
DTSTAMP:20260422T215632
CREATED:20180201T171052Z
LAST-MODIFIED:20180201T171052Z
UID:1156-1519459200-1519464600@templebaptistgf.org
SUMMARY:Men's Prayer Breakfast
DESCRIPTION:Join us for our men’s prayer breakfast. Breakfast will be served and a time of fellowship with a short message of encouragement to follow. \nShare this:\n				Share on X (Opens in new window)\n				X\n			\n				Share on Facebook (Opens in new window)\n				Facebook\n			\n				Share on LinkedIn (Opens in new window)\n				LinkedIn\n			\n				Share on Pinterest (Opens in new window)\n				Pinterest\n			\n				Email a link to a friend (Opens in new window)\n				Email\n			\n				Print (Opens in new window)\n				Print
URL:https://templebaptistgf.org/event/mens-prayer-breakfast-4/
ATTACH;FMTTYPE=image/jpeg:https://templebaptistgf.org/wp-content/uploads/2017/04/Mens-Prayer-Breakfast.jpg
END:VEVENT
BEGIN:VEVENT
DTSTART;TZID=UTC:20180220T131500
DTEND;TZID=UTC:20180220T141500
DTSTAMP:20260422T215632
CREATED:20170328T173024Z
LAST-MODIFIED:20180201T160715Z
UID:424-1519132500-1519136100@templebaptistgf.org
SUMMARY:Ladies Bible Class
DESCRIPTION:Share this:\n				Share on X (Opens in new window)\n				X\n			\n				Share on Facebook (Opens in new window)\n				Facebook\n			\n				Share on LinkedIn (Opens in new window)\n				LinkedIn\n			\n				Share on Pinterest (Opens in new window)\n				Pinterest\n			\n				Email a link to a friend (Opens in new window)\n				Email\n			\n				Print (Opens in new window)\n				Print
URL:https://templebaptistgf.org/event/ladies-bible-study/
LOCATION:Temple Baptist Church\, 313 18th St SW\, Great Falls\, MT\, 59404\, United States
END:VEVENT
BEGIN:VEVENT
DTSTART;VALUE=DATE:20180219
DTEND;VALUE=DATE:20180220
DTSTAMP:20260422T215632
CREATED:20180201T170335Z
LAST-MODIFIED:20180201T170335Z
UID:1153-1518998400-1519084799@templebaptistgf.org
SUMMARY:Church Ski Day
DESCRIPTION:Join us for a fun filled day of skiing at Showdown. If you would like to go\, please sign up by Sunday\, February 11th. If you have questions\, please see Pastor Ben Shumate. \nShare this:\n				Share on X (Opens in new window)\n				X\n			\n				Share on Facebook (Opens in new window)\n				Facebook\n			\n				Share on LinkedIn (Opens in new window)\n				LinkedIn\n			\n				Share on Pinterest (Opens in new window)\n				Pinterest\n			\n				Email a link to a friend (Opens in new window)\n				Email\n			\n				Print (Opens in new window)\n				Print
URL:https://templebaptistgf.org/event/church-ski-day/
END:VEVENT
BEGIN:VEVENT
DTSTART;TZID=UTC:20180216T180000
DTEND;TZID=UTC:20180216T200000
DTSTAMP:20260422T215632
CREATED:20180201T165926Z
LAST-MODIFIED:20190707T201145Z
UID:1149-1518804000-1518811200@templebaptistgf.org
SUMMARY:Valentines Banquet
DESCRIPTION:Everyone is invited for an evening of good food\, laughter\, and encouragement from God’s Word. Our special speaker\, Monte Leavell\, will be a blessing to your heart. A children’s program for Kindergarten through 5 grade and nursery for children under 5 years of age will be available. Please send valentines for your children to exchange. Tickets are $15 and may be purchased through the church office or through Duane or Lynn Buchi. \nShare this:\n				Share on X (Opens in new window)\n				X\n			\n				Share on Facebook (Opens in new window)\n				Facebook\n			\n				Share on LinkedIn (Opens in new window)\n				LinkedIn\n			\n				Share on Pinterest (Opens in new window)\n				Pinterest\n			\n				Email a link to a friend (Opens in new window)\n				Email\n			\n				Print (Opens in new window)\n				Print
URL:https://templebaptistgf.org/event/valentines-banquet/
LOCATION:Temple Baptist Church\, 313 18th St SW\, Great Falls\, MT\, 59404\, United States
CATEGORIES:CHURCH
END:VEVENT
BEGIN:VEVENT
DTSTART;TZID=UTC:20180102T130000
DTEND;TZID=UTC:20180102T150000
DTSTAMP:20260422T215632
CREATED:20171227T201640Z
LAST-MODIFIED:20171227T201640Z
UID:1111-1514898000-1514905200@templebaptistgf.org
SUMMARY:Church Un-Decorating
DESCRIPTION:Share this:\n				Share on X (Opens in new window)\n				X\n			\n				Share on Facebook (Opens in new window)\n				Facebook\n			\n				Share on LinkedIn (Opens in new window)\n				LinkedIn\n			\n				Share on Pinterest (Opens in new window)\n				Pinterest\n			\n				Email a link to a friend (Opens in new window)\n				Email\n			\n				Print (Opens in new window)\n				Print
URL:https://templebaptistgf.org/event/church-un-decorating/
END:VEVENT
BEGIN:VEVENT
DTSTART;TZID=UTC:20171231T180000
DTEND;TZID=UTC:20171231T203000
DTSTAMP:20260422T215632
CREATED:20171227T201452Z
LAST-MODIFIED:20171227T201452Z
UID:1109-1514743200-1514752200@templebaptistgf.org
SUMMARY:Year End Service
DESCRIPTION:The Evening Service will be a Year End Service with a time of fellowship following. Please bring games and finger foods to share. \nShare this:\n				Share on X (Opens in new window)\n				X\n			\n				Share on Facebook (Opens in new window)\n				Facebook\n			\n				Share on LinkedIn (Opens in new window)\n				LinkedIn\n			\n				Share on Pinterest (Opens in new window)\n				Pinterest\n			\n				Email a link to a friend (Opens in new window)\n				Email\n			\n				Print (Opens in new window)\n				Print
URL:https://templebaptistgf.org/event/year-end-service/
LOCATION:Temple Baptist Church\, 313 18th St SW\, Great Falls\, MT\, 59404\, United States
CATEGORIES:CHURCH
END:VEVENT
BEGIN:VEVENT
DTSTART;TZID=UTC:20171224T180000
DTEND;TZID=UTC:20171224T193000
DTSTAMP:20260422T215632
CREATED:20171119T152327Z
LAST-MODIFIED:20171119T152327Z
UID:1065-1514138400-1514143800@templebaptistgf.org
SUMMARY:Christmas Candlelight Service
DESCRIPTION:Share this:\n				Share on X (Opens in new window)\n				X\n			\n				Share on Facebook (Opens in new window)\n				Facebook\n			\n				Share on LinkedIn (Opens in new window)\n				LinkedIn\n			\n				Share on Pinterest (Opens in new window)\n				Pinterest\n			\n				Email a link to a friend (Opens in new window)\n				Email\n			\n				Print (Opens in new window)\n				Print
URL:https://templebaptistgf.org/event/christmas-candlelight-service/
END:VEVENT
BEGIN:VEVENT
DTSTART;TZID=UTC:20171217T180000
DTEND;TZID=UTC:20171217T200000
DTSTAMP:20260422T215632
CREATED:20171119T153002Z
LAST-MODIFIED:20171228T225153Z
UID:1067-1513533600-1513540800@templebaptistgf.org
SUMMARY:Christmas Cantata-"Ten Thousand Hallelujahs"
DESCRIPTION:This touching story\, based on the testimony of an elderly woman named Mary\, demonstrates how one godly life can bring many to experience the true meaning of Christmas. For those who enjoy Handel’s Messiah\, Ten Thousand Hallelujahs will be a special blessing with highlights of the Messiah interwoven throughout the musical. Also plan to join us for  a reception following the presentation. \nShare this:\n				Share on X (Opens in new window)\n				X\n			\n				Share on Facebook (Opens in new window)\n				Facebook\n			\n				Share on LinkedIn (Opens in new window)\n				LinkedIn\n			\n				Share on Pinterest (Opens in new window)\n				Pinterest\n			\n				Email a link to a friend (Opens in new window)\n				Email\n			\n				Print (Opens in new window)\n				Print
URL:https://templebaptistgf.org/event/christmas-cantata-ten-thousand-hallelujahs/
END:VEVENT
BEGIN:VEVENT
DTSTART;TZID=UTC:20171208T173000
DTEND;TZID=UTC:20171208T190000
DTSTAMP:20260422T215632
CREATED:20171128T201433Z
LAST-MODIFIED:20171128T201433Z
UID:1084-1512754200-1512759600@templebaptistgf.org
SUMMARY:Teen Christmas Party
DESCRIPTION:Share this:\n				Share on X (Opens in new window)\n				X\n			\n				Share on Facebook (Opens in new window)\n				Facebook\n			\n				Share on LinkedIn (Opens in new window)\n				LinkedIn\n			\n				Share on Pinterest (Opens in new window)\n				Pinterest\n			\n				Email a link to a friend (Opens in new window)\n				Email\n			\n				Print (Opens in new window)\n				Print
URL:https://templebaptistgf.org/event/teen-christmas-party/
LOCATION:Shumate’s Home
CATEGORIES:Youth
END:VEVENT
BEGIN:VEVENT
DTSTART;TZID=UTC:20171205T180000
DTEND;TZID=UTC:20171205T203000
DTSTAMP:20260422T215632
CREATED:20171119T152127Z
LAST-MODIFIED:20171211T222931Z
UID:1061-1512496800-1512505800@templebaptistgf.org
SUMMARY:Ladies' Christmas Tea
DESCRIPTION:The theme for this year’s tea is “Fall Softly Snow”. This time of celebration and fellowship will begin at 6:00pm at TBC. Please bring a finger food or dessert item to share and a snowflake/snow/snowman themed gift for the gift exchange. \nShare this:\n				Share on X (Opens in new window)\n				X\n			\n				Share on Facebook (Opens in new window)\n				Facebook\n			\n				Share on LinkedIn (Opens in new window)\n				LinkedIn\n			\n				Share on Pinterest (Opens in new window)\n				Pinterest\n			\n				Email a link to a friend (Opens in new window)\n				Email\n			\n				Print (Opens in new window)\n				Print
URL:https://templebaptistgf.org/event/ladies-christmas-tea/
CATEGORIES:CHURCH
ATTACH;FMTTYPE=image/jpeg:https://templebaptistgf.org/wp-content/uploads/2017/11/Snowflakes-blue.jpg
END:VEVENT
BEGIN:VEVENT
DTSTART;TZID=UTC:20171125T090000
DTEND;TZID=UTC:20171125T130000
DTSTAMP:20260422T215632
CREATED:20171119T153335Z
LAST-MODIFIED:20171119T153335Z
UID:1070-1511600400-1511614800@templebaptistgf.org
SUMMARY:Church Decorating Day
DESCRIPTION:Following the Men’s Prayer Breakfast\, we will be decorating the church for the Christmas season. Lunch will be provided. \nShare this:\n				Share on X (Opens in new window)\n				X\n			\n				Share on Facebook (Opens in new window)\n				Facebook\n			\n				Share on LinkedIn (Opens in new window)\n				LinkedIn\n			\n				Share on Pinterest (Opens in new window)\n				Pinterest\n			\n				Email a link to a friend (Opens in new window)\n				Email\n			\n				Print (Opens in new window)\n				Print
URL:https://templebaptistgf.org/event/church-decorating-day/
END:VEVENT
BEGIN:VEVENT
DTSTART;TZID=UTC:20171122T190000
DTEND;TZID=UTC:20171122T203000
DTSTAMP:20260422T215632
CREATED:20171119T151003Z
LAST-MODIFIED:20171119T151003Z
UID:1057-1511377200-1511382600@templebaptistgf.org
SUMMARY:Thanksgiving Testimony Service & Communion
DESCRIPTION:Share this:\n				Share on X (Opens in new window)\n				X\n			\n				Share on Facebook (Opens in new window)\n				Facebook\n			\n				Share on LinkedIn (Opens in new window)\n				LinkedIn\n			\n				Share on Pinterest (Opens in new window)\n				Pinterest\n			\n				Email a link to a friend (Opens in new window)\n				Email\n			\n				Print (Opens in new window)\n				Print
URL:https://templebaptistgf.org/event/thanksgiving-testimony-service-communion/
LOCATION:Temple Baptist Church\, 313 18th St SW\, Great Falls\, MT\, 59404\, United States
CATEGORIES:CHURCH
END:VEVENT
BEGIN:VEVENT
DTSTART;TZID=UTC:20171103T090000
DTEND;TZID=UTC:20171104T180000
DTSTAMP:20260422T215632
CREATED:20170831T170632Z
LAST-MODIFIED:20170831T170632Z
UID:987-1509699600-1509818400@templebaptistgf.org
SUMMARY:Teen Retreat
DESCRIPTION:Share this:\n				Share on X (Opens in new window)\n				X\n			\n				Share on Facebook (Opens in new window)\n				Facebook\n			\n				Share on LinkedIn (Opens in new window)\n				LinkedIn\n			\n				Share on Pinterest (Opens in new window)\n				Pinterest\n			\n				Email a link to a friend (Opens in new window)\n				Email\n			\n				Print (Opens in new window)\n				Print
URL:https://templebaptistgf.org/event/teen-retreat/
LOCATION:First Baptist Church\, Laurel\, MT\,  400 7th Ave\, Laurel\, Montana\, 59044
CATEGORIES:Youth
END:VEVENT
BEGIN:VEVENT
DTSTART;TZID=UTC:20171014T150000
DTEND;TZID=UTC:20171014T170000
DTSTAMP:20260422T215632
CREATED:20170809T150637Z
LAST-MODIFIED:20171019T184752Z
UID:945-1507993200-1508000400@templebaptistgf.org
SUMMARY:Harvest Fest
DESCRIPTION:Share this:\n				Share on X (Opens in new window)\n				X\n			\n				Share on Facebook (Opens in new window)\n				Facebook\n			\n				Share on LinkedIn (Opens in new window)\n				LinkedIn\n			\n				Share on Pinterest (Opens in new window)\n				Pinterest\n			\n				Email a link to a friend (Opens in new window)\n				Email\n			\n				Print (Opens in new window)\n				Print
URL:https://templebaptistgf.org/event/harvest-fest/
LOCATION:Temple Baptist Church\, 313 18th St SW\, Great Falls\, MT\, 59404\, United States
CATEGORIES:CHURCH
END:VEVENT
BEGIN:VEVENT
DTSTART;TZID=UTC:20171005T080000
DTEND;TZID=UTC:20171007T170000
DTSTAMP:20260422T215632
CREATED:20170727T182953Z
LAST-MODIFIED:20171010T220332Z
UID:901-1507190400-1507395600@templebaptistgf.org
SUMMARY:Ladies Retreat
DESCRIPTION:Join the ladies of Temple for a trip to Billings for three days of shopping\, sweet fellowship\, and blessings from time spent together in God’s Word. \nShare this:\n				Share on X (Opens in new window)\n				X\n			\n				Share on Facebook (Opens in new window)\n				Facebook\n			\n				Share on LinkedIn (Opens in new window)\n				LinkedIn\n			\n				Share on Pinterest (Opens in new window)\n				Pinterest\n			\n				Email a link to a friend (Opens in new window)\n				Email\n			\n				Print (Opens in new window)\n				Print
URL:https://templebaptistgf.org/event/ladies-retreat/
CATEGORIES:CHURCH
ATTACH;FMTTYPE=image/jpeg:https://templebaptistgf.org/wp-content/uploads/2017/08/LadiesRetreat-e1504224198331.jpg
END:VEVENT
BEGIN:VEVENT
DTSTART;TZID=UTC:20170910T100000
DTEND;TZID=UTC:20170913T190000
DTSTAMP:20260422T215632
CREATED:20170727T152611Z
LAST-MODIFIED:20170921T172411Z
UID:882-1505037600-1505329200@templebaptistgf.org
SUMMARY:Family Conference
DESCRIPTION:Join us for a special time of help and hope for our families with Evangelist Gary Bill. Meetings begin on Sunday\, September 10\, during our regular service times\, and continue at 7pm each evening through Wednesday\, September 13. \nShare this:\n				Share on X (Opens in new window)\n				X\n			\n				Share on Facebook (Opens in new window)\n				Facebook\n			\n				Share on LinkedIn (Opens in new window)\n				LinkedIn\n			\n				Share on Pinterest (Opens in new window)\n				Pinterest\n			\n				Email a link to a friend (Opens in new window)\n				Email\n			\n				Print (Opens in new window)\n				Print
URL:https://templebaptistgf.org/event/family-conference/
LOCATION:Temple Baptist Church\, 313 18th St SW\, Great Falls\, MT\, 59404\, United States
CATEGORIES:CHURCH
END:VEVENT
BEGIN:VEVENT
DTSTART;TZID=UTC:20170906T063000
DTEND;TZID=UTC:20170906T200000
DTSTAMP:20260422T215632
CREATED:20170809T150342Z
LAST-MODIFIED:20170809T150342Z
UID:943-1504679400-1504728000@templebaptistgf.org
SUMMARY:AWANA Begins
DESCRIPTION:Share this:\n				Share on X (Opens in new window)\n				X\n			\n				Share on Facebook (Opens in new window)\n				Facebook\n			\n				Share on LinkedIn (Opens in new window)\n				LinkedIn\n			\n				Share on Pinterest (Opens in new window)\n				Pinterest\n			\n				Email a link to a friend (Opens in new window)\n				Email\n			\n				Print (Opens in new window)\n				Print
URL:https://templebaptistgf.org/event/awana-begins/
LOCATION:Temple Baptist Church\, 313 18th St SW\, Great Falls\, MT\, 59404\, United States
CATEGORIES:CHURCH
ATTACH;FMTTYPE=image/png:https://templebaptistgf.org/wp-content/uploads/2014/05/AWANA-logo.png
END:VEVENT
BEGIN:VEVENT
DTSTART;TZID=UTC:20170819T090000
DTEND;TZID=UTC:20170819T223000
DTSTAMP:20260422T215632
CREATED:20170809T145925Z
LAST-MODIFIED:20170809T150023Z
UID:941-1503133200-1503181800@templebaptistgf.org
SUMMARY:All Workers Meeting
DESCRIPTION:This meeting is for all those serving in any ministry that involves our children or youth. Breakfast will be provided. \nShare this:\n				Share on X (Opens in new window)\n				X\n			\n				Share on Facebook (Opens in new window)\n				Facebook\n			\n				Share on LinkedIn (Opens in new window)\n				LinkedIn\n			\n				Share on Pinterest (Opens in new window)\n				Pinterest\n			\n				Email a link to a friend (Opens in new window)\n				Email\n			\n				Print (Opens in new window)\n				Print
URL:https://templebaptistgf.org/event/all-workers-meeting/
LOCATION:Temple Baptist Church\, 313 18th St SW\, Great Falls\, MT\, 59404\, United States
END:VEVENT
BEGIN:VEVENT
DTSTART;TZID=UTC:20170812T100000
DTEND;TZID=UTC:20170812T113000
DTSTAMP:20260422T215632
CREATED:20170601T154910Z
LAST-MODIFIED:20170628T182152Z
UID:643-1502532000-1502537400@templebaptistgf.org
SUMMARY:Homeschool Moms
DESCRIPTION:      If you are a homeschooling Mom\, or are interested in homeschooling\, you are invited to join us for coffee\, \na short devotion time\, and a lot of laughter and fellowship. \nShare this:\n				Share on X (Opens in new window)\n				X\n			\n				Share on Facebook (Opens in new window)\n				Facebook\n			\n				Share on LinkedIn (Opens in new window)\n				LinkedIn\n			\n				Share on Pinterest (Opens in new window)\n				Pinterest\n			\n				Email a link to a friend (Opens in new window)\n				Email\n			\n				Print (Opens in new window)\n				Print
URL:https://templebaptistgf.org/event/homeschool-moms-2/
LOCATION:Amy’s Mornng Perk
CATEGORIES:CHURCH
ATTACH;FMTTYPE=image/jpeg:https://templebaptistgf.org/wp-content/uploads/2017/03/41e70a1581f3f87159f7a942de9fcc71.jpg
END:VEVENT
BEGIN:VEVENT
DTSTART;TZID=UTC:20170726T190000
DTEND;TZID=UTC:20170726T200000
DTSTAMP:20260422T215632
CREATED:20170628T182713Z
LAST-MODIFIED:20170628T182713Z
UID:699-1501095600-1501099200@templebaptistgf.org
SUMMARY:Summer Missionary Kids Club
DESCRIPTION:Share this:\n				Share on X (Opens in new window)\n				X\n			\n				Share on Facebook (Opens in new window)\n				Facebook\n			\n				Share on LinkedIn (Opens in new window)\n				LinkedIn\n			\n				Share on Pinterest (Opens in new window)\n				Pinterest\n			\n				Email a link to a friend (Opens in new window)\n				Email\n			\n				Print (Opens in new window)\n				Print
URL:https://templebaptistgf.org/event/summer-missionary-kids-club-5/
LOCATION:Temple Baptist Church\, 313 18th St SW\, Great Falls\, MT\, 59404\, United States
CATEGORIES:Youth
END:VEVENT
BEGIN:VEVENT
DTSTART;TZID=UTC:20170723T180000
DTEND;TZID=UTC:20170723T190000
DTSTAMP:20260422T215632
CREATED:20171022T181610Z
LAST-MODIFIED:20170831T164740Z
UID:684-1500832800-1500836400@templebaptistgf.org
SUMMARY:Split Session
DESCRIPTION:Share this:\n				Share on X (Opens in new window)\n				X\n			\n				Share on Facebook (Opens in new window)\n				Facebook\n			\n				Share on LinkedIn (Opens in new window)\n				LinkedIn\n			\n				Share on Pinterest (Opens in new window)\n				Pinterest\n			\n				Email a link to a friend (Opens in new window)\n				Email\n			\n				Print (Opens in new window)\n				Print
URL:https://templebaptistgf.org/event/split-session-2/
CATEGORIES:CHURCH
END:VEVENT
BEGIN:VEVENT
DTSTART;TZID=UTC:20170719T190000
DTEND;TZID=UTC:20170719T200000
DTSTAMP:20260422T215632
CREATED:20170628T182629Z
LAST-MODIFIED:20170628T182629Z
UID:697-1500490800-1500494400@templebaptistgf.org
SUMMARY:Summer Missionary Kids Club
DESCRIPTION:Share this:\n				Share on X (Opens in new window)\n				X\n			\n				Share on Facebook (Opens in new window)\n				Facebook\n			\n				Share on LinkedIn (Opens in new window)\n				LinkedIn\n			\n				Share on Pinterest (Opens in new window)\n				Pinterest\n			\n				Email a link to a friend (Opens in new window)\n				Email\n			\n				Print (Opens in new window)\n				Print
URL:https://templebaptistgf.org/event/summer-missionary-kids-club-4/
LOCATION:Temple Baptist Church\, 313 18th St SW\, Great Falls\, MT\, 59404\, United States
CATEGORIES:Youth
END:VEVENT
BEGIN:VEVENT
DTSTART;TZID=UTC:20170717T070000
DTEND;TZID=UTC:20170722T170000
DTSTAMP:20260422T215632
CREATED:20170628T173052Z
LAST-MODIFIED:20170628T173052Z
UID:671-1500274800-1500742800@templebaptistgf.org
SUMMARY:Junior Camp
DESCRIPTION:Share this:\n				Share on X (Opens in new window)\n				X\n			\n				Share on Facebook (Opens in new window)\n				Facebook\n			\n				Share on LinkedIn (Opens in new window)\n				LinkedIn\n			\n				Share on Pinterest (Opens in new window)\n				Pinterest\n			\n				Email a link to a friend (Opens in new window)\n				Email\n			\n				Print (Opens in new window)\n				Print
URL:https://templebaptistgf.org/event/junior-camp/
CATEGORIES:Youth
END:VEVENT
BEGIN:VEVENT
DTSTART;TZID=UTC:20170714T100000
DTEND;TZID=UTC:20170714T113000
DTSTAMP:20260422T215632
CREATED:20170328T181905Z
LAST-MODIFIED:20170628T175504Z
UID:427-1500026400-1500031800@templebaptistgf.org
SUMMARY:Homeschool Moms
DESCRIPTION:Join us for a time of encouragement and fellowship\, as we share a cup coffee or tea\, a devotion from God’s Word\, and a whole lot of conversation and laughter. \nShare this:\n				Share on X (Opens in new window)\n				X\n			\n				Share on Facebook (Opens in new window)\n				Facebook\n			\n				Share on LinkedIn (Opens in new window)\n				LinkedIn\n			\n				Share on Pinterest (Opens in new window)\n				Pinterest\n			\n				Email a link to a friend (Opens in new window)\n				Email\n			\n				Print (Opens in new window)\n				Print
URL:https://templebaptistgf.org/event/homeschool-moms/
LOCATION:Amy’s Mornng Perk
CATEGORIES:CHURCH
ATTACH;FMTTYPE=image/jpeg:https://templebaptistgf.org/wp-content/uploads/2017/03/41e70a1581f3f87159f7a942de9fcc71.jpg
END:VEVENT
BEGIN:VEVENT
DTSTART;TZID=UTC:20170712T190000
DTEND;TZID=UTC:20170712T200000
DTSTAMP:20260422T215632
CREATED:20170628T182536Z
LAST-MODIFIED:20170628T182536Z
UID:695-1499886000-1499889600@templebaptistgf.org
SUMMARY:Summer Missionary Kids Club
DESCRIPTION:Share this:\n				Share on X (Opens in new window)\n				X\n			\n				Share on Facebook (Opens in new window)\n				Facebook\n			\n				Share on LinkedIn (Opens in new window)\n				LinkedIn\n			\n				Share on Pinterest (Opens in new window)\n				Pinterest\n			\n				Email a link to a friend (Opens in new window)\n				Email\n			\n				Print (Opens in new window)\n				Print
URL:https://templebaptistgf.org/event/summer-missionary-kids-club-3/
LOCATION:Temple Baptist Church\, 313 18th St SW\, Great Falls\, MT\, 59404\, United States
CATEGORIES:Youth
END:VEVENT
BEGIN:VEVENT
DTSTART;TZID=UTC:20170705T190000
DTEND;TZID=UTC:20170705T200000
DTSTAMP:20260422T215632
CREATED:20170628T182428Z
LAST-MODIFIED:20170628T182446Z
UID:693-1499281200-1499284800@templebaptistgf.org
SUMMARY:Summer Missionary Kids Club
DESCRIPTION:Share this:\n				Share on X (Opens in new window)\n				X\n			\n				Share on Facebook (Opens in new window)\n				Facebook\n			\n				Share on LinkedIn (Opens in new window)\n				LinkedIn\n			\n				Share on Pinterest (Opens in new window)\n				Pinterest\n			\n				Email a link to a friend (Opens in new window)\n				Email\n			\n				Print (Opens in new window)\n				Print
URL:https://templebaptistgf.org/event/summer-missionary-kids-club-2/
LOCATION:Temple Baptist Church\, 313 18th St SW\, Great Falls\, MT\, 59404\, United States
CATEGORIES:Youth
END:VEVENT
BEGIN:VEVENT
DTSTART;TZID=UTC:20170705T174500
DTEND;TZID=UTC:20170705T184500
DTSTAMP:20260422T215632
CREATED:20170601T144911Z
LAST-MODIFIED:20170628T175823Z
UID:638-1499276700-1499280300@templebaptistgf.org
SUMMARY:Ladies' Summer Bible Class
DESCRIPTION:  Learn to balance truth and love while studying the books of Philemon\, 2 & 3 John\, and Jude. \nThe study guide\, “Postcards”\, is available for purchase through the office. \nShare this:\n				Share on X (Opens in new window)\n				X\n			\n				Share on Facebook (Opens in new window)\n				Facebook\n			\n				Share on LinkedIn (Opens in new window)\n				LinkedIn\n			\n				Share on Pinterest (Opens in new window)\n				Pinterest\n			\n				Email a link to a friend (Opens in new window)\n				Email\n			\n				Print (Opens in new window)\n				Print
URL:https://templebaptistgf.org/event/ladies-summer-bible-class-2/
LOCATION:Temple Baptist Church\, 313 18th St SW\, Great Falls\, MT\, 59404\, United States
CATEGORIES:CHURCH
ATTACH;FMTTYPE=image/jpeg:https://templebaptistgf.org/wp-content/uploads/2017/01/Bible-Opened-Luke.jpg
END:VEVENT
BEGIN:VEVENT
DTSTART;TZID=UTC:20170702T080000
DTEND;TZID=UTC:20170702T190000
DTSTAMP:20260422T215632
CREATED:20170628T173459Z
LAST-MODIFIED:20170711T020932Z
UID:674-1498982400-1499022000@templebaptistgf.org
SUMMARY:Bob Jones Missions-West Team
DESCRIPTION:Join us for a special presentation of music and preaching by the Bob Jones University Missions-West Team. \nShare this:\n				Share on X (Opens in new window)\n				X\n			\n				Share on Facebook (Opens in new window)\n				Facebook\n			\n				Share on LinkedIn (Opens in new window)\n				LinkedIn\n			\n				Share on Pinterest (Opens in new window)\n				Pinterest\n			\n				Email a link to a friend (Opens in new window)\n				Email\n			\n				Print (Opens in new window)\n				Print
URL:https://templebaptistgf.org/event/bob-jones-missions-west-team/
CATEGORIES:CHURCH
ATTACH;FMTTYPE=image/jpeg:https://templebaptistgf.org/wp-content/uploads/2017/06/BJU-Logov2.jpg
END:VEVENT
END:VCALENDAR