BEGIN:VCALENDAR
VERSION:2.0
PRODID:-//Temple Baptist Church - Great Falls, MT - ECPv6.15.15//NONSGML v1.0//EN
CALSCALE:GREGORIAN
METHOD:PUBLISH
X-ORIGINAL-URL:https://templebaptistgf.org
X-WR-CALDESC:Events for Temple Baptist Church - Great Falls, MT
REFRESH-INTERVAL;VALUE=DURATION:PT1H
X-Robots-Tag:noindex
X-PUBLISHED-TTL:PT1H
BEGIN:VTIMEZONE
TZID:UTC
BEGIN:STANDARD
TZOFFSETFROM:+0000
TZOFFSETTO:+0000
TZNAME:UTC
DTSTART:20170101T000000
END:STANDARD
END:VTIMEZONE
BEGIN:VTIMEZONE
TZID:America/Chicago
BEGIN:DAYLIGHT
TZOFFSETFROM:-0600
TZOFFSETTO:-0500
TZNAME:CDT
DTSTART:20170312T080000
END:DAYLIGHT
BEGIN:STANDARD
TZOFFSETFROM:-0500
TZOFFSETTO:-0600
TZNAME:CST
DTSTART:20171105T070000
END:STANDARD
BEGIN:DAYLIGHT
TZOFFSETFROM:-0600
TZOFFSETTO:-0500
TZNAME:CDT
DTSTART:20180311T080000
END:DAYLIGHT
BEGIN:STANDARD
TZOFFSETFROM:-0500
TZOFFSETTO:-0600
TZNAME:CST
DTSTART:20181104T070000
END:STANDARD
BEGIN:DAYLIGHT
TZOFFSETFROM:-0600
TZOFFSETTO:-0500
TZNAME:CDT
DTSTART:20190310T080000
END:DAYLIGHT
BEGIN:STANDARD
TZOFFSETFROM:-0500
TZOFFSETTO:-0600
TZNAME:CST
DTSTART:20191103T070000
END:STANDARD
END:VTIMEZONE
BEGIN:VEVENT
DTSTART;TZID=UTC:20190911T183000
DTEND;TZID=UTC:20190911T200000
DTSTAMP:20260422T154907
CREATED:20180821T201426Z
LAST-MODIFIED:20200320T181339Z
UID:1319-1568226600-1568232000@templebaptistgf.org
SUMMARY:AWANA Begins
DESCRIPTION:First night of AWANA\, our Wednesday night children’s program for children ages 2-12. \nShare this:\n				Share on X (Opens in new window)\n				X\n			\n				Share on Facebook (Opens in new window)\n				Facebook\n			\n				Share on LinkedIn (Opens in new window)\n				LinkedIn\n			\n				Share on Pinterest (Opens in new window)\n				Pinterest\n			\n				Email a link to a friend (Opens in new window)\n				Email\n			\n				Print (Opens in new window)\n				Print
URL:https://templebaptistgf.org/event/awana-begins-2/
CATEGORIES:CHURCH
ATTACH;FMTTYPE=image/jpeg:https://templebaptistgf.org/wp-content/uploads/2018/08/awana-header.jpg
END:VEVENT
BEGIN:VEVENT
DTSTART;TZID=UTC:20190711T191500
DTEND;TZID=UTC:20190711T203000
DTSTAMP:20260422T154907
CREATED:20190707T201437Z
LAST-MODIFIED:20190707T201437Z
UID:1509-1562872500-1562877000@templebaptistgf.org
SUMMARY:Softball Game
DESCRIPTION:Salvation Army Softball field. \nShare this:\n				Share on X (Opens in new window)\n				X\n			\n				Share on Facebook (Opens in new window)\n				Facebook\n			\n				Share on LinkedIn (Opens in new window)\n				LinkedIn\n			\n				Share on Pinterest (Opens in new window)\n				Pinterest\n			\n				Email a link to a friend (Opens in new window)\n				Email\n			\n				Print (Opens in new window)\n				Print
URL:https://templebaptistgf.org/event/softball-game/
CATEGORIES:CHURCH
END:VEVENT
BEGIN:VEVENT
DTSTART;TZID=UTC:20190710T190000
DTEND;TZID=UTC:20190710T200000
DTSTAMP:20260422T154907
CREATED:20190707T201000Z
LAST-MODIFIED:20190730T031338Z
UID:1503-1562785200-1562788800@templebaptistgf.org
SUMMARY:Proclaim Ministry Team
DESCRIPTION:Pensacola Christian College Proclaim Ministry Team will be with us. \nShare this:\n				Share on X (Opens in new window)\n				X\n			\n				Share on Facebook (Opens in new window)\n				Facebook\n			\n				Share on LinkedIn (Opens in new window)\n				LinkedIn\n			\n				Share on Pinterest (Opens in new window)\n				Pinterest\n			\n				Email a link to a friend (Opens in new window)\n				Email\n			\n				Print (Opens in new window)\n				Print
URL:https://templebaptistgf.org/event/proclaim-ministry-team/
LOCATION:Temple Baptist Church\, 313 18th St SW\, Great Falls\, MT\, 59404\, United States
CATEGORIES:Past Events
ATTACH;FMTTYPE=image/jpeg:https://templebaptistgf.org/wp-content/uploads/2019/07/ProclaimTeam5-1080.jpg
END:VEVENT
BEGIN:VEVENT
DTSTART;TZID=UTC:20190610T100000
DTEND;TZID=UTC:20190613T123000
DTSTAMP:20260422T154907
CREATED:20190529T173158Z
LAST-MODIFIED:20190707T201028Z
UID:1496-1560160800-1560429000@templebaptistgf.org
SUMMARY:Vacation Bible School
DESCRIPTION:Bible lessons\, games\, crafts\, and cookies! Come out and be a Faithful Bible Investigator! Ages 5-12. \nShare this:\n				Share on X (Opens in new window)\n				X\n			\n				Share on Facebook (Opens in new window)\n				Facebook\n			\n				Share on LinkedIn (Opens in new window)\n				LinkedIn\n			\n				Share on Pinterest (Opens in new window)\n				Pinterest\n			\n				Email a link to a friend (Opens in new window)\n				Email\n			\n				Print (Opens in new window)\n				Print
URL:https://templebaptistgf.org/event/vacation-bible-school-6/
CATEGORIES:Youth
ATTACH;FMTTYPE=image/png:https://templebaptistgf.org/wp-content/uploads/2019/05/VBS19banner-1-e1559153446779.png
END:VEVENT
BEGIN:VEVENT
DTSTART;TZID=UTC:20190601T103000
DTEND;TZID=UTC:20190601T233000
DTSTAMP:20260422T154907
CREATED:20190601T032935Z
LAST-MODIFIED:20190601T032935Z
UID:1500-1559385000-1559431800@templebaptistgf.org
SUMMARY:Bridal Shower for Josie Sasek
DESCRIPTION:Share this:\n				Share on X (Opens in new window)\n				X\n			\n				Share on Facebook (Opens in new window)\n				Facebook\n			\n				Share on LinkedIn (Opens in new window)\n				LinkedIn\n			\n				Share on Pinterest (Opens in new window)\n				Pinterest\n			\n				Email a link to a friend (Opens in new window)\n				Email\n			\n				Print (Opens in new window)\n				Print
URL:https://templebaptistgf.org/event/bridal-shower-for-josie-sasek/
LOCATION:Temple Baptist Church\, 313 18th St SW\, Great Falls\, MT\, 59404\, United States
CATEGORIES:CHURCH
END:VEVENT
BEGIN:VEVENT
DTSTART;TZID=UTC:20190421T062500
DTEND;TZID=UTC:20190421T210000
DTSTAMP:20260422T154907
CREATED:20190420T160411Z
LAST-MODIFIED:20190420T160442Z
UID:1489-1555827900-1555880400@templebaptistgf.org
SUMMARY:Sunrise Service
DESCRIPTION:We will meet outside the church to have a short service as the sun rises. Just as those disciples went  to the  tomb that morning and found it empty for Jesus has risen. We will have a potluck breakfast afterward in the fellowship room. Regular service will be later. \nShare this:\n				Share on X (Opens in new window)\n				X\n			\n				Share on Facebook (Opens in new window)\n				Facebook\n			\n				Share on LinkedIn (Opens in new window)\n				LinkedIn\n			\n				Share on Pinterest (Opens in new window)\n				Pinterest\n			\n				Email a link to a friend (Opens in new window)\n				Email\n			\n				Print (Opens in new window)\n				Print
URL:https://templebaptistgf.org/event/sunrise-service/
CATEGORIES:CHURCH
END:VEVENT
BEGIN:VEVENT
DTSTART;TZID=UTC:20190331T100000
DTEND;TZID=UTC:20190331T143000
DTSTAMP:20260422T154907
CREATED:20170329T174533Z
LAST-MODIFIED:20200320T181415Z
UID:435-1554026400-1554042600@templebaptistgf.org
SUMMARY:Family Sunday
DESCRIPTION:Join us for a Family Sunday Potluck following the morning service. We will be having the Lords Supper during the afternoon service \nShare this:\n				Share on X (Opens in new window)\n				X\n			\n				Share on Facebook (Opens in new window)\n				Facebook\n			\n				Share on LinkedIn (Opens in new window)\n				LinkedIn\n			\n				Share on Pinterest (Opens in new window)\n				Pinterest\n			\n				Email a link to a friend (Opens in new window)\n				Email\n			\n				Print (Opens in new window)\n				Print
URL:https://templebaptistgf.org/event/family-sunday/
LOCATION:Temple Baptist Church\, 313 18th St SW\, Great Falls\, MT\, 59404\, United States
CATEGORIES:CHURCH
ATTACH;FMTTYPE=image/jpeg:https://templebaptistgf.org/wp-content/uploads/2017/04/Family-Sunday-X-Lg.jpg
END:VEVENT
BEGIN:VEVENT
DTSTART;TZID=UTC:20190203T180000
DTEND;TZID=UTC:20190203T190000
DTSTAMP:20260422T154907
CREATED:20190119T162043Z
LAST-MODIFIED:20190119T162043Z
UID:1479-1549216800-1549220400@templebaptistgf.org
SUMMARY:Church Annual Business Meeting
DESCRIPTION:Share this:\n				Share on X (Opens in new window)\n				X\n			\n				Share on Facebook (Opens in new window)\n				Facebook\n			\n				Share on LinkedIn (Opens in new window)\n				LinkedIn\n			\n				Share on Pinterest (Opens in new window)\n				Pinterest\n			\n				Email a link to a friend (Opens in new window)\n				Email\n			\n				Print (Opens in new window)\n				Print
URL:https://templebaptistgf.org/event/church-annual-business-meeting/
LOCATION:Temple Baptist Church\, 313 18th St SW\, Great Falls\, MT\, 59404\, United States
CATEGORIES:CHURCH
END:VEVENT
BEGIN:VEVENT
DTSTART;TZID=UTC:20190120T110000
DTEND;TZID=UTC:20190120T143000
DTSTAMP:20260422T154907
CREATED:20190112T155327Z
LAST-MODIFIED:20190112T155327Z
UID:1471-1547982000-1547994600@templebaptistgf.org
SUMMARY:Special Speaker - Dr. John Goetsch
DESCRIPTION:Dr. John Goetsch\, Executive Vice President of West Coast Baptist College will be with us. There will be a potluck after the service and then following with be an afternoon service. No evening service. \nShare this:\n				Share on X (Opens in new window)\n				X\n			\n				Share on Facebook (Opens in new window)\n				Facebook\n			\n				Share on LinkedIn (Opens in new window)\n				LinkedIn\n			\n				Share on Pinterest (Opens in new window)\n				Pinterest\n			\n				Email a link to a friend (Opens in new window)\n				Email\n			\n				Print (Opens in new window)\n				Print
URL:https://templebaptistgf.org/event/special-speaker-dr-john-goetsch/
LOCATION:Temple Baptist Church\, 313 18th St SW\, Great Falls\, MT\, 59404\, United States
CATEGORIES:CHURCH
END:VEVENT
BEGIN:VEVENT
DTSTART;TZID=UTC:20181231T170000
DTEND;TZID=UTC:20181231T210000
DTSTAMP:20260422T154907
CREATED:20181219T040416Z
LAST-MODIFIED:20181219T040720Z
UID:1447-1546275600-1546290000@templebaptistgf.org
SUMMARY:New Year's Eve
DESCRIPTION:We will be taking down the Christmas decorations and then finger food and games to follow. \nShare this:\n				Share on X (Opens in new window)\n				X\n			\n				Share on Facebook (Opens in new window)\n				Facebook\n			\n				Share on LinkedIn (Opens in new window)\n				LinkedIn\n			\n				Share on Pinterest (Opens in new window)\n				Pinterest\n			\n				Email a link to a friend (Opens in new window)\n				Email\n			\n				Print (Opens in new window)\n				Print
URL:https://templebaptistgf.org/event/new-years-eve/
LOCATION:Temple Baptist Church\, 313 18th St SW\, Great Falls\, MT\, 59404\, United States
CATEGORIES:CHURCH
END:VEVENT
BEGIN:VEVENT
DTSTART;TZID=UTC:20181224T180000
DTEND;TZID=UTC:20181224T190000
DTSTAMP:20260422T154907
CREATED:20181219T035840Z
LAST-MODIFIED:20181227T191152Z
UID:1442-1545674400-1545678000@templebaptistgf.org
SUMMARY:Christmas Eve Service
DESCRIPTION:We will be holding a Christmas Eve Candlelight Service. Prior to the service will be a Children’s Musical Prelude at 5:30. \nShare this:\n				Share on X (Opens in new window)\n				X\n			\n				Share on Facebook (Opens in new window)\n				Facebook\n			\n				Share on LinkedIn (Opens in new window)\n				LinkedIn\n			\n				Share on Pinterest (Opens in new window)\n				Pinterest\n			\n				Email a link to a friend (Opens in new window)\n				Email\n			\n				Print (Opens in new window)\n				Print
URL:https://templebaptistgf.org/event/christmas-eve-service/
LOCATION:Temple Baptist Church\, 313 18th St SW\, Great Falls\, MT\, 59404\, United States
CATEGORIES:CHURCH
ATTACH;FMTTYPE=image/jpeg:https://templebaptistgf.org/wp-content/uploads/2018/12/Candlelight-Service.jpg
END:VEVENT
BEGIN:VEVENT
DTSTART;TZID=UTC:20181216T180000
DTEND;TZID=UTC:20181216T193000
DTSTAMP:20260422T154907
CREATED:20181202T214838Z
LAST-MODIFIED:20181219T035907Z
UID:1415-1544983200-1544988600@templebaptistgf.org
SUMMARY:Behold A Savior - Christmas Cantata
DESCRIPTION:It is our yearly Christmas cantata and we are really looking forward to having everyone come and enjoy it. Please be our guest and be part of the tradition of Christmas. For those who cannot make it\, it will be live on the Temple Baptist YouTube page. \nShare this:\n				Share on X (Opens in new window)\n				X\n			\n				Share on Facebook (Opens in new window)\n				Facebook\n			\n				Share on LinkedIn (Opens in new window)\n				LinkedIn\n			\n				Share on Pinterest (Opens in new window)\n				Pinterest\n			\n				Email a link to a friend (Opens in new window)\n				Email\n			\n				Print (Opens in new window)\n				Print
URL:https://templebaptistgf.org/event/behold-a-savior-christmas-cantata/
LOCATION:Temple Baptist Church\, 313 18th St SW\, Great Falls\, MT\, 59404\, United States
CATEGORIES:CHURCH
ATTACH;FMTTYPE=image/jpeg:https://templebaptistgf.org/wp-content/uploads/2018/12/Behold-A-Savior.jpg
END:VEVENT
BEGIN:VEVENT
DTSTART;TZID=UTC:20181211T080000
DTEND;TZID=UTC:20181211T170000
DTSTAMP:20260422T154907
CREATED:20181202T215541Z
LAST-MODIFIED:20181202T215834Z
UID:1425-1544515200-1544547600@templebaptistgf.org
SUMMARY:Ladies' Bible Study
DESCRIPTION:Join us every Tuesday for our Ladies’ Bible Study. \nShare this:\n				Share on X (Opens in new window)\n				X\n			\n				Share on Facebook (Opens in new window)\n				Facebook\n			\n				Share on LinkedIn (Opens in new window)\n				LinkedIn\n			\n				Share on Pinterest (Opens in new window)\n				Pinterest\n			\n				Email a link to a friend (Opens in new window)\n				Email\n			\n				Print (Opens in new window)\n				Print
URL:https://templebaptistgf.org/event/ladys-bible-study/
LOCATION:First Baptist Church\, Laurel\, MT\,  400 7th Ave\, Laurel\, Montana\, 59044
CATEGORIES:CHURCH
END:VEVENT
BEGIN:VEVENT
DTSTART;TZID=UTC:20181209T180000
DTEND;TZID=UTC:20181209T190000
DTSTAMP:20260422T154907
CREATED:20181202T215321Z
LAST-MODIFIED:20181202T215321Z
UID:1420-1544378400-1544382000@templebaptistgf.org
SUMMARY:No Evening Service
DESCRIPTION:We will not have an evening service. Pray for the Choir as they go to Heart Butte to perform the Cantata. \nShare this:\n				Share on X (Opens in new window)\n				X\n			\n				Share on Facebook (Opens in new window)\n				Facebook\n			\n				Share on LinkedIn (Opens in new window)\n				LinkedIn\n			\n				Share on Pinterest (Opens in new window)\n				Pinterest\n			\n				Email a link to a friend (Opens in new window)\n				Email\n			\n				Print (Opens in new window)\n				Print
URL:https://templebaptistgf.org/event/no-evening-service/
CATEGORIES:CHURCH
END:VEVENT
BEGIN:VEVENT
DTSTART;TZID=UTC:20181204T180000
DTEND;TZID=UTC:20181204T190000
DTSTAMP:20260422T154907
CREATED:20181202T215744Z
LAST-MODIFIED:20181202T215744Z
UID:1427-1543946400-1543950000@templebaptistgf.org
SUMMARY:Ladies' Christmas Candlelight Tea
DESCRIPTION:Share this:\n				Share on X (Opens in new window)\n				X\n			\n				Share on Facebook (Opens in new window)\n				Facebook\n			\n				Share on LinkedIn (Opens in new window)\n				LinkedIn\n			\n				Share on Pinterest (Opens in new window)\n				Pinterest\n			\n				Email a link to a friend (Opens in new window)\n				Email\n			\n				Print (Opens in new window)\n				Print
URL:https://templebaptistgf.org/event/ladies-christmas-candlelight-tea/
CATEGORIES:CHURCH
END:VEVENT
BEGIN:VEVENT
DTSTART;TZID=UTC:20181124T080000
DTEND;TZID=UTC:20181124T093000
DTSTAMP:20260422T154907
CREATED:20170329T143630Z
LAST-MODIFIED:20190707T201207Z
UID:431-1543046400-1543051800@templebaptistgf.org
SUMMARY:Men's Prayer Breakfast
DESCRIPTION:Join us for our men’s prayer breakfast. Breakfast will be served and a time of fellowship with a short message of encouragement to follow. \nShare this:\n				Share on X (Opens in new window)\n				X\n			\n				Share on Facebook (Opens in new window)\n				Facebook\n			\n				Share on LinkedIn (Opens in new window)\n				LinkedIn\n			\n				Share on Pinterest (Opens in new window)\n				Pinterest\n			\n				Email a link to a friend (Opens in new window)\n				Email\n			\n				Print (Opens in new window)\n				Print
URL:https://templebaptistgf.org/event/mens-prayer-breakfast/
LOCATION:Temple Baptist Church\, 313 18th St SW\, Great Falls\, MT\, 59404\, United States
CATEGORIES:CHURCH
ATTACH;FMTTYPE=image/jpeg:https://templebaptistgf.org/wp-content/uploads/2017/04/Mens-Prayer-Breakfast.jpg
END:VEVENT
BEGIN:VEVENT
DTSTART;TZID=UTC:20181121T190000
DTEND;TZID=UTC:20181121T200000
DTSTAMP:20260422T154907
CREATED:20181111T152315Z
LAST-MODIFIED:20181111T152315Z
UID:1380-1542826800-1542830400@templebaptistgf.org
SUMMARY:LORD’s Supper
DESCRIPTION:Share this:\n				Share on X (Opens in new window)\n				X\n			\n				Share on Facebook (Opens in new window)\n				Facebook\n			\n				Share on LinkedIn (Opens in new window)\n				LinkedIn\n			\n				Share on Pinterest (Opens in new window)\n				Pinterest\n			\n				Email a link to a friend (Opens in new window)\n				Email\n			\n				Print (Opens in new window)\n				Print
URL:https://templebaptistgf.org/event/lords-supper/
LOCATION:Temple Baptist Church\, 313 18th St SW\, Great Falls\, MT\, 59404\, United States
CATEGORIES:CHURCH
END:VEVENT
BEGIN:VEVENT
DTSTART;TZID=UTC:20181006T140000
DTEND;TZID=UTC:20181006T160000
DTSTAMP:20260422T154907
CREATED:20180909T140032Z
LAST-MODIFIED:20181008T182045Z
UID:1340-1538834400-1538841600@templebaptistgf.org
SUMMARY:Harvest Fest
DESCRIPTION:Come and bring the kids for a great time with the whole family. Games\, food\, and fun! \nShare this:\n				Share on X (Opens in new window)\n				X\n			\n				Share on Facebook (Opens in new window)\n				Facebook\n			\n				Share on LinkedIn (Opens in new window)\n				LinkedIn\n			\n				Share on Pinterest (Opens in new window)\n				Pinterest\n			\n				Email a link to a friend (Opens in new window)\n				Email\n			\n				Print (Opens in new window)\n				Print
URL:https://templebaptistgf.org/event/harvest-fest-2/
LOCATION:Temple Baptist Church\, 313 18th St SW\, Great Falls\, MT\, 59404\, United States
ATTACH;FMTTYPE=image/png:https://templebaptistgf.org/wp-content/uploads/2018/09/Untitled.png
END:VEVENT
BEGIN:VEVENT
DTSTART;TZID=UTC:20180825T090000
DTEND;TZID=UTC:20180825T103000
DTSTAMP:20260422T154907
CREATED:20180821T200228Z
LAST-MODIFIED:20180821T200228Z
UID:1317-1535187600-1535193000@templebaptistgf.org
SUMMARY:All Workers Meeting
DESCRIPTION:Annual meeting for all those who work in the children’s ministries. \nShare this:\n				Share on X (Opens in new window)\n				X\n			\n				Share on Facebook (Opens in new window)\n				Facebook\n			\n				Share on LinkedIn (Opens in new window)\n				LinkedIn\n			\n				Share on Pinterest (Opens in new window)\n				Pinterest\n			\n				Email a link to a friend (Opens in new window)\n				Email\n			\n				Print (Opens in new window)\n				Print
URL:https://templebaptistgf.org/event/all-workers-meeting-2/
END:VEVENT
BEGIN:VEVENT
DTSTART;VALUE=DATE:20180729
DTEND;VALUE=DATE:20180730
DTSTAMP:20260422T154907
CREATED:20180724T193239Z
LAST-MODIFIED:20180803T134705Z
UID:1300-1532822400-1532908799@templebaptistgf.org
SUMMARY:Family Sunday
DESCRIPTION:Share this:\n				Share on X (Opens in new window)\n				X\n			\n				Share on Facebook (Opens in new window)\n				Facebook\n			\n				Share on LinkedIn (Opens in new window)\n				LinkedIn\n			\n				Share on Pinterest (Opens in new window)\n				Pinterest\n			\n				Email a link to a friend (Opens in new window)\n				Email\n			\n				Print (Opens in new window)\n				Print
URL:https://templebaptistgf.org/event/family-sunday-2/
ATTACH;FMTTYPE=image/jpeg:https://templebaptistgf.org/wp-content/uploads/2017/04/Family-Sunday-X-Lg.jpg
END:VEVENT
BEGIN:VEVENT
DTSTART;VALUE=DATE:20180716
DTEND;VALUE=DATE:20180722
DTSTAMP:20260422T154907
CREATED:20180613T024413Z
LAST-MODIFIED:20180724T193451Z
UID:1273-1531699200-1532217599@templebaptistgf.org
SUMMARY:Teen Camp
DESCRIPTION:The Teen Group will be going to Camp at Red Cliff Bible Camp \nShare this:\n				Share on X (Opens in new window)\n				X\n			\n				Share on Facebook (Opens in new window)\n				Facebook\n			\n				Share on LinkedIn (Opens in new window)\n				LinkedIn\n			\n				Share on Pinterest (Opens in new window)\n				Pinterest\n			\n				Email a link to a friend (Opens in new window)\n				Email\n			\n				Print (Opens in new window)\n				Print
URL:https://templebaptistgf.org/event/senior-camp/
LOCATION:Red Cliff Bible Camp\, Pinedale\, WY\, Pinedale\, WY\, United States
ORGANIZER;CN="Pastor Ben Shumate":MAILTO:benshumate@templebaptistgf.org
END:VEVENT
BEGIN:VEVENT
DTSTART;TZID=UTC:20180708T110000
DTEND;TZID=UTC:20180708T123000
DTSTAMP:20260422T154907
CREATED:20180613T023731Z
LAST-MODIFIED:20180703T232124Z
UID:1267-1531047600-1531053000@templebaptistgf.org
SUMMARY:Pensacola Christian College
DESCRIPTION:A singing group from Pensacola Christian College will be in our services. \nShare this:\n				Share on X (Opens in new window)\n				X\n			\n				Share on Facebook (Opens in new window)\n				Facebook\n			\n				Share on LinkedIn (Opens in new window)\n				LinkedIn\n			\n				Share on Pinterest (Opens in new window)\n				Pinterest\n			\n				Email a link to a friend (Opens in new window)\n				Email\n			\n				Print (Opens in new window)\n				Print
URL:https://templebaptistgf.org/event/pensacola-college-night/
LOCATION:Temple Baptist Church\, 313 18th St SW\, Great Falls\, MT\, 59404\, United States
CATEGORIES:CHURCH
END:VEVENT
BEGIN:VEVENT
DTSTART;VALUE=DATE:20180625
DTEND;VALUE=DATE:20180701
DTSTAMP:20260422T154907
CREATED:20180613T024218Z
LAST-MODIFIED:20180703T231929Z
UID:1270-1529884800-1530403199@templebaptistgf.org
SUMMARY:Junior Camp
DESCRIPTION:The kids will be going to Red Cliff Bible Camp in Wyoming \nShare this:\n				Share on X (Opens in new window)\n				X\n			\n				Share on Facebook (Opens in new window)\n				Facebook\n			\n				Share on LinkedIn (Opens in new window)\n				LinkedIn\n			\n				Share on Pinterest (Opens in new window)\n				Pinterest\n			\n				Email a link to a friend (Opens in new window)\n				Email\n			\n				Print (Opens in new window)\n				Print
URL:https://templebaptistgf.org/event/junior-camp-2/
LOCATION:Red Cliff Bible Camp\, Pinedale\, WY\, Pinedale\, WY\, United States
ORGANIZER;CN="Pastor Ben Shumate":MAILTO:benshumate@templebaptistgf.org
END:VEVENT
BEGIN:VEVENT
DTSTART;TZID=UTC:20180620T190000
DTEND;TZID=UTC:20180620T200000
DTSTAMP:20260422T154907
CREATED:20180613T023451Z
LAST-MODIFIED:20180613T023451Z
UID:1265-1529521200-1529524800@templebaptistgf.org
SUMMARY:West Coast Bible College Singing Team
DESCRIPTION:Join us for a great time of music as the West Coast Bible College Singing Team blesses us with music. \nShare this:\n				Share on X (Opens in new window)\n				X\n			\n				Share on Facebook (Opens in new window)\n				Facebook\n			\n				Share on LinkedIn (Opens in new window)\n				LinkedIn\n			\n				Share on Pinterest (Opens in new window)\n				Pinterest\n			\n				Email a link to a friend (Opens in new window)\n				Email\n			\n				Print (Opens in new window)\n				Print
URL:https://templebaptistgf.org/event/west-coast-bible-college-singing-team/
LOCATION:Temple Baptist Church\, 313 18th St SW\, Great Falls\, MT\, 59404\, United States
CATEGORIES:CHURCH
END:VEVENT
BEGIN:VEVENT
DTSTART;TZID=America/Chicago:20180617T093000
DTEND;TZID=America/Chicago:20180617T133000
DTSTAMP:20260422T154907
CREATED:20180613T023006Z
LAST-MODIFIED:20180619T185714Z
UID:1261-1529227800-1529242200@templebaptistgf.org
SUMMARY:Father's Day
DESCRIPTION:Join us for Father’s Day Service and a Tri-Tip BBQ lunch following the service. Please bring a side dish\, salad or dessert. \nShare this:\n				Share on X (Opens in new window)\n				X\n			\n				Share on Facebook (Opens in new window)\n				Facebook\n			\n				Share on LinkedIn (Opens in new window)\n				LinkedIn\n			\n				Share on Pinterest (Opens in new window)\n				Pinterest\n			\n				Email a link to a friend (Opens in new window)\n				Email\n			\n				Print (Opens in new window)\n				Print
URL:https://templebaptistgf.org/event/fathers-day/
LOCATION:Temple Baptist Church\, 313 18th St SW\, Great Falls\, MT\, 59404\, United States
CATEGORIES:CHURCH
ATTACH;FMTTYPE=image/jpeg:https://templebaptistgf.org/wp-content/uploads/2018/06/Fathers-day.jpg
END:VEVENT
BEGIN:VEVENT
DTSTART;TZID=UTC:20180611T100000
DTEND;TZID=UTC:20180614T123000
DTSTAMP:20260422T154907
CREATED:20180523T155443Z
LAST-MODIFIED:20180615T153850Z
UID:1236-1528711200-1528979400@templebaptistgf.org
SUMMARY:Vacation Bible School
DESCRIPTION:Join us for Bible stories\, games\, food\, and crafts!  Ages 5-12. Each day from 10-12:30. \nShare this:\n				Share on X (Opens in new window)\n				X\n			\n				Share on Facebook (Opens in new window)\n				Facebook\n			\n				Share on LinkedIn (Opens in new window)\n				LinkedIn\n			\n				Share on Pinterest (Opens in new window)\n				Pinterest\n			\n				Email a link to a friend (Opens in new window)\n				Email\n			\n				Print (Opens in new window)\n				Print
URL:https://templebaptistgf.org/event/vacation-bible-school-5/
ATTACH;FMTTYPE=image/jpeg:https://templebaptistgf.org/wp-content/uploads/2018/05/VBS-2018-Banner.jpg
END:VEVENT
BEGIN:VEVENT
DTSTART;TZID=UTC:20180606T180000
DTEND;TZID=UTC:20180606T184500
DTSTAMP:20260422T154907
CREATED:20180530T032215Z
LAST-MODIFIED:20180530T032215Z
UID:1246-1528308000-1528310700@templebaptistgf.org
SUMMARY:Ladies Summer Bible Study
DESCRIPTION:This study is called Exposing Counterfeit Christianity from the book of 2 Peter. \nIt begins June 6th \nPlease contact Melanie Sasek for details. \nShare this:\n				Share on X (Opens in new window)\n				X\n			\n				Share on Facebook (Opens in new window)\n				Facebook\n			\n				Share on LinkedIn (Opens in new window)\n				LinkedIn\n			\n				Share on Pinterest (Opens in new window)\n				Pinterest\n			\n				Email a link to a friend (Opens in new window)\n				Email\n			\n				Print (Opens in new window)\n				Print
URL:https://templebaptistgf.org/event/ladies-summer-bible-study/
CATEGORIES:CHURCH
END:VEVENT
BEGIN:VEVENT
DTSTART;TZID=UTC:20180513T110000
DTEND;TZID=UTC:20180513T140000
DTSTAMP:20260422T154907
CREATED:20180507T033223Z
LAST-MODIFIED:20180523T155528Z
UID:1222-1526209200-1526220000@templebaptistgf.org
SUMMARY:Mother's Day
DESCRIPTION:Join us in celebrating mothers. This is a special service just to say and show how much we love our moms!. There is no evening service this night. Enjoy the day with your mom. \nShare this:\n				Share on X (Opens in new window)\n				X\n			\n				Share on Facebook (Opens in new window)\n				Facebook\n			\n				Share on LinkedIn (Opens in new window)\n				LinkedIn\n			\n				Share on Pinterest (Opens in new window)\n				Pinterest\n			\n				Email a link to a friend (Opens in new window)\n				Email\n			\n				Print (Opens in new window)\n				Print
URL:https://templebaptistgf.org/event/mothers-day/
LOCATION:Temple Baptist Church\, 313 18th St SW\, Great Falls\, MT\, 59404\, United States
CATEGORIES:CHURCH
ATTACH;FMTTYPE=image/jpeg:https://templebaptistgf.org/wp-content/uploads/2018/05/Mothers-Day.jpg
END:VEVENT
BEGIN:VEVENT
DTSTART;TZID=UTC:20180512T110000
DTEND;TZID=UTC:20180512T140000
DTSTAMP:20260422T154907
CREATED:20170420T160239Z
LAST-MODIFIED:20180523T155144Z
UID:479-1526122800-1526133600@templebaptistgf.org
SUMMARY:Mother-Daughter Brunch
DESCRIPTION:All ladies are welcome to this special time of fellowship. Details to come \nShare this:\n				Share on X (Opens in new window)\n				X\n			\n				Share on Facebook (Opens in new window)\n				Facebook\n			\n				Share on LinkedIn (Opens in new window)\n				LinkedIn\n			\n				Share on Pinterest (Opens in new window)\n				Pinterest\n			\n				Email a link to a friend (Opens in new window)\n				Email\n			\n				Print (Opens in new window)\n				Print
URL:https://templebaptistgf.org/event/mother-daughter-brunch/
LOCATION:Temple Baptist Church\, 313 18th St SW\, Great Falls\, MT\, 59404\, United States
CATEGORIES:CHURCH
ATTACH;FMTTYPE=image/jpeg:https://templebaptistgf.org/wp-content/uploads/2017/04/Mother-Daughter-Brunch.jpg
END:VEVENT
BEGIN:VEVENT
DTSTART;TZID=UTC:20180508T131500
DTEND;TZID=UTC:20180508T143000
DTSTAMP:20260422T154907
CREATED:20180507T031209Z
LAST-MODIFIED:20180507T031209Z
UID:1217-1525785300-1525789800@templebaptistgf.org
SUMMARY:Ladies' Bible Study - "Life of Christ"
DESCRIPTION:Meets at the church every Tuesday at 1:15. All ladies welcome. \nShare this:\n				Share on X (Opens in new window)\n				X\n			\n				Share on Facebook (Opens in new window)\n				Facebook\n			\n				Share on LinkedIn (Opens in new window)\n				LinkedIn\n			\n				Share on Pinterest (Opens in new window)\n				Pinterest\n			\n				Email a link to a friend (Opens in new window)\n				Email\n			\n				Print (Opens in new window)\n				Print
URL:https://templebaptistgf.org/event/ladies-bible-study-life-of-christ/
LOCATION:Temple Baptist Church\, 313 18th St SW\, Great Falls\, MT\, 59404\, United States
CATEGORIES:CHURCH
END:VEVENT
END:VCALENDAR