BEGIN:VCALENDAR
VERSION:2.0
PRODID:-//Temple Baptist Church - Great Falls, MT - ECPv6.15.15//NONSGML v1.0//EN
CALSCALE:GREGORIAN
METHOD:PUBLISH
X-ORIGINAL-URL:https://templebaptistgf.org
X-WR-CALDESC:Events for Temple Baptist Church - Great Falls, MT
REFRESH-INTERVAL;VALUE=DURATION:PT1H
X-Robots-Tag:noindex
X-PUBLISHED-TTL:PT1H
BEGIN:VTIMEZONE
TZID:UTC
BEGIN:STANDARD
TZOFFSETFROM:+0000
TZOFFSETTO:+0000
TZNAME:UTC
DTSTART:20160101T000000
END:STANDARD
END:VTIMEZONE
BEGIN:VEVENT
DTSTART;TZID=UTC:20170428T163000
DTEND;TZID=UTC:20170428T190000
DTSTAMP:20260421T084108
CREATED:20170426T152955Z
LAST-MODIFIED:20170426T152955Z
UID:517-1493397000-1493406000@templebaptistgf.org
SUMMARY:Flippin Family Fun Teen Activity
DESCRIPTION:All teens going to this event\, please meet at the church at 4:30pm. \nShare this:\n				Share on X (Opens in new window)\n				X\n			\n				Share on Facebook (Opens in new window)\n				Facebook\n			\n				Share on LinkedIn (Opens in new window)\n				LinkedIn\n			\n				Share on Pinterest (Opens in new window)\n				Pinterest\n			\n				Email a link to a friend (Opens in new window)\n				Email\n			\n				Print (Opens in new window)\n				Print
URL:https://templebaptistgf.org/event/flippin-family-fun-teen-activity/
LOCATION:Flippin Family Fun\, 5501 9th Ave S\, Great Falls\, MT\, United States
CATEGORIES:Youth
END:VEVENT
END:VCALENDAR